BEGIN:VCALENDAR
VERSION:2.0
PRODID:-//Eventin//Event Calendar//EN
CALSCALE:GREGORIAN
METHOD:PUBLISH
BEGIN:VEVENT
UID:910d5bd905d7eb4aa3e92e5fa1be3657@diplomacy.world
SUMMARY:RegensCon 2026
DESCRIPTION:A Diplomacy tournament held on June 20th and 21th in Regensburg
 \, Germany. Come and join us for three rounds of Diplomacy in a friendly en
 vironment! There will be also the opportunity for a guided tour through the
  city\, a selection of other board games\, and meeting new people with simi
 lar interests. If you have questions visit the official website regenscon.c
 om\n \nOn friday 19 there will be a guided tour for those who arrive a day
  earlier.\nIt will start at 17:30 from Historische Wurstkuchl Regensburg\n
  \nRound 1 and 2 will be played in one location\, while Round 3 will be at
  a different one.\n 
LOCATION: Gaststätte-Pension Götzfried Donaustraße 13\, 93105 Tegernheim
DTSTAMP:20260420T161855Z
DTSTART:20260620T073000Z
DTEND:20260621T180000Z
END:VEVENT
END:VCALENDAR
