BEGIN:VCALENDAR
VERSION:2.0
PRODID:-//Eventin//Event Calendar//EN
CALSCALE:GREGORIAN
METHOD:PUBLISH
BEGIN:VEVENT
UID:cb2710cc677ffe9f20230efe2a0fa176@diplomacy.world
SUMMARY:Verona Con 2026
DESCRIPTION:Diplomacy Tournament is back to Verona after 15 years.\nWill yo
 u be able to ally or stab better than all the others in the city of romeo a
 nd Juliet?\n \n 
LOCATION:Campus Pub
DTSTAMP:20260420T161855Z
DTSTART:20261128T080000Z
DTEND:20261129T170000Z
END:VEVENT
END:VCALENDAR
